









BEGIN:VCALENDAR
VERSION:2.0
PRODID:-//Autoescuela La Moderna - ECPv6.15.20//NONSGML v1.0//EN
CALSCALE:GREGORIAN
METHOD:PUBLISH
X-ORIGINAL-URL:https://autoescuelalamoderna.es
X-WR-CALDESC:Eventos para Autoescuela La Moderna
REFRESH-INTERVAL;VALUE=DURATION:PT1H
X-Robots-Tag:noindex
X-PUBLISHED-TTL:PT1H
BEGIN:VTIMEZONE
TZID:UTC
BEGIN:STANDARD
TZOFFSETFROM:+0000
TZOFFSETTO:+0000
TZNAME:UTC
DTSTART:20240101T000000
END:STANDARD
END:VTIMEZONE
BEGIN:VEVENT
DTSTART;TZID=UTC:20250609T170000
DTEND;TZID=UTC:20250609T170000
DTSTAMP:20260422T101754
CREATED:20250520T172148Z
LAST-MODIFIED:20250522T111641Z
UID:8757-1749488400-1749488400@autoescuelalamoderna.es
SUMMARY:ADR (mercancías peligrosas) RENOVACIÓN Básico y cisternas
DESCRIPTION:Curso para la renovación de la «Autorización para Conducir Vehículos que Transportan Mercancías Peligrosas». \n-Del 9 al 12 de junio de 2025. Horario de tarde. \nLa asistencia es presencial y obligatoria. \nSi eres trabajador asalariado o empresa TE PUEDES BONIFICAR EL CURSO \nSi quieres saber que materias se imparten en este curso  HAZ CLIC AQUÍ \nEl curso incluye prácticas reales de extinción de incendios. \nEl curso incluye prácticas de primeros auxilios. \nSi quieres más información sobre los cursos relacionados con este\, incluida la extinción de incendios\, HAZ CLIC AQUÍ \nLa fecha límite para apuntarse\, es de tres días antes del inicio del curso. \n 
URL:https://autoescuelalamoderna.es/calendario-de-cursos/adr-mercancias-peligrosas-renovacion-basico-y-cisternas-4/
LOCATION:LEÓN\, León\, España
CATEGORIES:ADR
ATTACH;FMTTYPE=image/jpeg:https://autoescuelalamoderna.es/wp-content/uploads/Curso-Mercancias-peligrosas-1-xumR5D.tmp_.jpg
END:VEVENT
BEGIN:VEVENT
DTSTART;TZID=UTC:20250609T173000
DTEND;TZID=UTC:20250609T173000
DTSTAMP:20260422T101754
CREATED:20250520T172318Z
LAST-MODIFIED:20250522T111437Z
UID:8758-1749490200-1749490200@autoescuelalamoderna.es
SUMMARY:ADR (mercancías peligrosas) OBTENCIÓN Básico y cisternas
DESCRIPTION:Curso para la obtención de la «Autorización para Conducir Vehículos que Transportan Mercancías Peligrosas». \n-Los días 9\, 10\, 11 \,12 \,13 y 16\, 17 de junio de 2025. De 17:00 a 21:00. \nLa asistencia es presencial y obligatoria. \nSi eres trabajador asalariado o empresa TE PUEDES BONIFICAR EL CURSO \nSi quieres saber que materias se imparten en este curso  HAZ CLIC AQUÍ \nEl curso incluye prácticas reales de extinción de incendios. \nEl curso incluye prácticas de primeros auxilios. \nSi quieres más información sobre los cursos relacionados con este\, incluida la extinción de incendios\, HAZ CLIC AQUÍ \nLa fecha límite para apuntarse\, es de tres días antes del inicio del curso. \n 
URL:https://autoescuelalamoderna.es/calendario-de-cursos/adr-mercancias-peligrosas-obtencion-basico-y-cisternas-18/
LOCATION:LEÓN\, León\, España
CATEGORIES:ADR
ATTACH;FMTTYPE=image/jpeg:https://autoescuelalamoderna.es/wp-content/uploads/Curso-Mercancias-peligrosas-3-TRNnTW.tmp_.jpg
END:VEVENT
END:VCALENDAR