









BEGIN:VCALENDAR
VERSION:2.0
PRODID:-//Autoescuela La Moderna - ECPv6.15.20//NONSGML v1.0//EN
CALSCALE:GREGORIAN
METHOD:PUBLISH
X-ORIGINAL-URL:https://autoescuelalamoderna.es
X-WR-CALDESC:Eventos para Autoescuela La Moderna
REFRESH-INTERVAL;VALUE=DURATION:PT1H
X-Robots-Tag:noindex
X-PUBLISHED-TTL:PT1H
BEGIN:VTIMEZONE
TZID:UTC
BEGIN:STANDARD
TZOFFSETFROM:+0000
TZOFFSETTO:+0000
TZNAME:UTC
DTSTART:20240101T000000
END:STANDARD
END:VTIMEZONE
BEGIN:VEVENT
DTSTART;TZID=UTC:20250808T160000
DTEND;TZID=UTC:20250808T160000
DTSTAMP:20260424T063719
CREATED:20250509T105147Z
LAST-MODIFIED:20250630T083803Z
UID:8709-1754668800-1754668800@autoescuelalamoderna.es
SUMMARY:Curso Carretillero (certificado con la norma UNE 58451)
DESCRIPTION:Parte teórica\, viernes 8 de agosto de 2025. \nParte práctica\, sábado 9 de agosto de 2025. \n\nHorario: Viernes de 16:00 a 22:30 y sábado de 08:00 a 14:30.\n\nUna vez superado el examen teórico y práctico\, se entrega «certificado» y «carné»\nEstamos certificados con la Norma UNE 58451:2016 para la formación de Operadores de Carretillas De Manutención Hasta 10.000 Kg.\n\nSi eres trabajador asalariado o empresa\,  TE PUEDES BONIFICAR EL CURSO \nPincha a continuación\,  PARA SABER MÁS SOBRE ESTOS CURSOS 
URL:https://autoescuelalamoderna.es/calendario-de-cursos/curso-carretillero-certificado-con-la-norma-une-58451-43/
LOCATION:LEÓN\, León\, España
CATEGORIES:Carretillero
ATTACH;FMTTYPE=image/jpeg:https://autoescuelalamoderna.es/wp-content/uploads/Curso-carretilla-elevadora-2-QGjuMe.tmp_.jpg
END:VEVENT
END:VCALENDAR