









BEGIN:VCALENDAR
VERSION:2.0
PRODID:-//Autoescuela La Moderna - ECPv6.15.20//NONSGML v1.0//EN
CALSCALE:GREGORIAN
METHOD:PUBLISH
X-WR-CALNAME:Autoescuela La Moderna
X-ORIGINAL-URL:https://autoescuelalamoderna.es
X-WR-CALDESC:Eventos para Autoescuela La Moderna
REFRESH-INTERVAL;VALUE=DURATION:PT1H
X-Robots-Tag:noindex
X-PUBLISHED-TTL:PT1H
BEGIN:VTIMEZONE
TZID:UTC
BEGIN:STANDARD
TZOFFSETFROM:+0000
TZOFFSETTO:+0000
TZNAME:UTC
DTSTART:20250101T000000
END:STANDARD
END:VTIMEZONE
BEGIN:VEVENT
DTSTART;TZID=UTC:20260420T080000
DTEND;TZID=UTC:20260420T080000
DTSTAMP:20260420T015435
CREATED:20260323T083123Z
LAST-MODIFIED:20260323T083123Z
UID:9145-1776672000-1776672000@autoescuelalamoderna.es
SUMMARY:CAP INICIAL (obtención) 140h en horario de MAÑANA (mercancías y viajeros)
DESCRIPTION:Se imparte del 20 de abril al 2 de junio de 2026.  En horario de mañanas\, de 09:00 a 13:30. \nPara poder trabajar con camión o autobús\, necesitas  el «CAP»\,  «Certificado de Aptitud Profesional» y el permiso de conducir «camión» o «autobús» \nEl curso tiene una duración de 130 horas de teoría en aula y 10 prácticas a bordo del vehículo. \nSi eres trabajador asalariado o empresa TE PUEDES BONIFICAR EL CURSO \nLa fecha límite para apuntarse es de dos días antes del inicio del curso.
URL:https://autoescuelalamoderna.es/calendario-de-cursos/cap-inicial-obtencion-140h-en-horario-de-manana-mercancias-y-viajeros-7/
LOCATION:LEÓN\, León\, España
CATEGORIES:CAP
ATTACH;FMTTYPE=image/jpeg:https://autoescuelalamoderna.es/wp-content/uploads/Cursos-CAP-Obt-B-D9nDPU.tmp_.jpg
END:VEVENT
BEGIN:VEVENT
DTSTART;TZID=UTC:20260420T160000
DTEND;TZID=UTC:20260420T160000
DTSTAMP:20260420T015435
CREATED:20260128T175128Z
LAST-MODIFIED:20260323T082757Z
UID:9030-1776700800-1776700800@autoescuelalamoderna.es
SUMMARY:CAP INICIAL (obtención)140h en horario de TARDE (mercancías y viajeros)
DESCRIPTION:Se imparte del 20 de abril al 2 de junio de 2026. Horario 16:00 a 20:30 \nPara poder trabajar con camión o autobús\, necesitas  el «CAP»\,  «Certificado de Aptitud Profesional» y el permiso de conducir «camión» o «autobús» \nEl curso tiene una duración de 130 horas de teoría en aula y 10 prácticas a bordo del vehículo. \nSi eres trabajador asalariado o empresa TE PUEDES BONIFICAR EL CURSO \nSi quieres tener más información de este curso\,  HAZ CLIC AQUÍ \nLa fecha límite para apuntarse es de dos días antes del inicio del curso.
URL:https://autoescuelalamoderna.es/calendario-de-cursos/cap-inicial-obtencion140h-en-horario-de-tarde-mercancias-y-viajeros-15/
LOCATION:LEÓN\, León\, España
CATEGORIES:CAP
ATTACH;FMTTYPE=image/jpeg:https://autoescuelalamoderna.es/wp-content/uploads/Cursos-CAP-Obt-D-bEOAjm.tmp_.jpg
END:VEVENT
BEGIN:VEVENT
DTSTART;TZID=UTC:20260420T170000
DTEND;TZID=UTC:20260420T170000
DTSTAMP:20260420T015435
CREATED:20260128T164015Z
LAST-MODIFIED:20260323T171736Z
UID:9008-1776704400-1776704400@autoescuelalamoderna.es
SUMMARY:Curso de Recuperación Parcial de Puntos (4 puntos)
DESCRIPTION:Curso de Recuperación Parcial de puntos\n-Los días 20\, 21 y 22 de abril de 2026 (en horario de tarde). \nRecuperación parcial de puntos\n\nSi no quieres arriesgarte a perder la vigencia de tu permiso y no poder conducir\, puedes optar por hacer un curso de sensibilización y reeducación vial para recuperar hasta un máximo de 4 puntos\, no pudiendo superar nunca el saldo de 12 puntos.\nLos cursos son de diez horas de duración\, distribuidas en dos partes. Una común destinada a la formación general sobre materias relacionadas con la cultura de la seguridad vial (7 horas) y una hora de reflexión y debate en grupo. La parte específica (3 horas\, que puedes hacer online) es individualizada para cada persona\, de modo que se incide sobre las áreas temáticas en las que la persona conductora presenta mayores carencias.\nPodrás realizar un curso una vez cada 2 años o\, en el caso de los conductores profesionales\, una vez al año.\n\nEste curso es presencial obligatorio \nNo tiene examen\n  \n¡Reserva tu plaza ya!\n\ntfno 987221264\nwhatsapp 601106368\ninfo@autoescuelalamoderna.es\n\n  \n  \n 
URL:https://autoescuelalamoderna.es/calendario-de-cursos/curso-de-recuperacion-parcial-de-puntos-4-puntos-14/
LOCATION:LEÓN\, León\, España
CATEGORIES:Puntos Permiso
ATTACH;FMTTYPE=image/jpeg:https://autoescuelalamoderna.es/wp-content/uploads/Permiso-x-punt-a-1-B7DDiZ.tmp_.jpg
ORGANIZER;CN="La Moderna":MAILTO:info@autoescuelalamoderna.es
END:VEVENT
END:VCALENDAR